BEGIN:VCALENDAR
VERSION:2.0
PRODID:-//ChamberMaster//Event Calendar 2.0//EN
METHOD:PUBLISH
X-PUBLISHED-TTL:P3D
REFRESH-INTERVAL:P3D
CALSCALE:GREGORIAN
BEGIN:VEVENT
DTSTART:20250612T210000Z
DTEND:20250613T010000Z
X-MICROSOFT-CDO-ALLDAYEVENT:FALSE
SUMMARY:Young Adult Cancer Canada's 25th Birthday Bash Fundraiser
DESCRIPTION:The evening will feature a NL-themed dish created by one of the province's top chefs\, Todd Perrin\; delicious and unique cocktails and drinks from Wooden Walls Distilling and Quidi Vidi Brewery\, fun YACC activities\, a live auction\, live music from Andrew Rodgers and Kathy Stock\, nostalgia\, laughter\, and likely a few tears. This one-of-a-kind milestone event is not to be missed.\n\nWho's invited? YACC friends\, event participants\, donors\, sponsors and partners\, YACCers\, families\, healthcare professionals\, board members\, and past staff are invited to celebrate this milestone with us at this 19+ event!\n\nCome on out and raise a glass to the last 25 years while helping us enter the next one!
X-ALT-DESC;FMTTYPE=text/html:<p>The evening will feature a NL-themed dish created by one of the province&rsquo\;s top chefs\,&nbsp\;<strong>Todd Perrin</strong>\;&nbsp\;delicious and unique cocktails&nbsp\;and drinks from&nbsp\;<strong>Wooden Walls Distilling</strong>&nbsp\;and&nbsp\;<strong>Quidi Vidi Brewery</strong>\, fun YACC activities\, a live auction\, live music from&nbsp\;<strong>Andrew Rodgers</strong>&nbsp\;and&nbsp\;<strong>Kathy Stock</strong>\, nostalgia\, laughter\, and likely a few tears. This one-of-a-kind milestone event is not to be missed.</p>\n\n<p><strong>Who&rsquo\;s invited?</strong>&nbsp\;YACC friends\, event participants\, donors\, sponsors and partners\, YACCers\, families\, healthcare professionals\, board members\, and past staff are invited to celebrate this milestone with us at this 19+ event!</p>\n\n<p>Come on out and raise a glass to the last 25 years while helping us enter the next one!</p>\n
LOCATION:St. John's Farmers' Market
UID:e.2558.4429
SEQUENCE:3
DTSTAMP:20260423T093041Z
URL:https://members.stjohnsbot.ca/events/details/young-adult-cancer-canada-s-25th-birthday-bash-fundraiser-4429
END:VEVENT

END:VCALENDAR
