BEGIN:VCALENDAR
VERSION:2.0
PRODID:-//ChamberMaster//Event Calendar 2.0//EN
METHOD:PUBLISH
X-PUBLISHED-TTL:P3D
REFRESH-INTERVAL:P3D
CALSCALE:GREGORIAN
BEGIN:VEVENT
DTSTART:20250614T130000Z
DTEND:20250614T160000Z
X-MICROSOFT-CDO-ALLDAYEVENT:FALSE
SUMMARY:YACC's Family Fest
DESCRIPTION:Join YACC and the whole St. John's community for a day in Bannerman park\, celebrating 25 years of supporting young adults with cancer!\n\nWe will have a full-day adult softball tournament\, as well as lots of family activities.\n\nWhat to expect:\n\n10 a.m.   7 p.m.: Adult-only softball tournament ($50 fee\, includes lunch)\n\n10 a.m.   1 p.m.: Family activities (bouncy castle\, popcorn\, face painting\, colouring and more)\n\n12 p.m.: Kids soccer baseball game\n\n4:30 p.m.: Home run derby\n\nWho's invited? YACC friends\, event participants\, donors\, sponsors and partners\, YACCers\, families\, healthcare professionals\, board members\, and past staff are invited to celebrate this milestone with us at this family-friendly event!\n\nCome spend a day in the park\, connect with new and old friends\, and join us as we celebrate living and loving life!
X-ALT-DESC;FMTTYPE=text/html:<p>Join YACC and the whole St. John&rsquo\;s community for a day in Bannerman park\, celebrating 25 years of supporting young adults with cancer!</p>\n\n<p>We will have a full-day adult softball tournament\, as well as lots of family activities.</p>\n\n<p>W<strong>hat to expect:</strong></p>\n\n<p>10 a.m. &ndash\; 7 p.m.: Adult-only softball tournament ($50 fee\, includes lunch)</p>\n\n<p>10 a.m. &ndash\; 1 p.m.: Family activities (bouncy castle\, popcorn\, face painting\, colouring and more)</p>\n\n<p>12 p.m.: Kids soccer baseball game</p>\n\n<p>4:30 p.m.: Home run derby</p>\n\n<p><strong>Who&rsquo\;s invited?</strong>&nbsp\;YACC friends\, event participants\, donors\, sponsors and partners\, YACCers\, families\, healthcare professionals\, board members\, and past staff are invited to celebrate this milestone with us at this family-friendly event!</p>\n\n<p>Come spend a day in the park\, connect with new and old friends\, and join us as we celebrate living and loving life!</p>\n
LOCATION:Bannerman Park
UID:e.2558.4430
SEQUENCE:3
DTSTAMP:20260423T085604Z
URL:https://members.stjohnsbot.ca/events/details/yacc-s-family-fest-4430
END:VEVENT

END:VCALENDAR
