BEGIN:VCALENDAR
VERSION:2.0
PRODID:-//ChamberMaster//Event Calendar 2.0//EN
METHOD:PUBLISH
X-PUBLISHED-TTL:P3D
REFRESH-INTERVAL:P3D
CALSCALE:GREGORIAN
BEGIN:VEVENT
DTSTART;VALUE=DATE:20360128
DTEND;VALUE=DATE:20360129
TRANSP:TRANSPARENT
X-MICROSOFT-CDO-ALLDAYEVENT:TRUE
SUMMARY:Psychological Health and Safety Week
DESCRIPTION:Psychological Health and Safety Week is dedicated to raising awareness of psychological health and safety in the workplace. Join us to learn practical solutions for lowering the risk of psychological hazards through a series of FREE webinars.
X-ALT-DESC;FMTTYPE=text/html:<span style="color:#222222"><span style="font-family:arial\,sans-serif"><span style="font-size:11.5pt"><a href="https://workplacenl.us8.list-manage.com/track/click?u=0402a713f7a2e07b499537431&amp\;id=9b75404c27&amp\;e=0be4fa4bca" target="_blank"><strong><span style="color:#00ACC6">Psychological Health and Safety Week</span></strong></a> is dedicated to raising awareness of psychological health and safety in the workplace. Join us to learn practical solutions for lowering the risk of psychological hazards through a series of <a href="https://workplacenl.us8.list-manage.com/track/click?u=0402a713f7a2e07b499537431&amp\;id=15cf99e464&amp\;e=0be4fa4bca" target="_blank"><strong><span style="color:#00ACC6">FREE webinars</span></strong></a>.</span></span></span>
LOCATION:Virtual event hosted by WorkplaceNL.
UID:e.2558.4540
SEQUENCE:3
DTSTAMP:20260422T085133Z
URL:https://members.stjohnsbot.ca/events/details/psychological-health-and-safety-week-01-28-2036-4540
END:VEVENT

END:VCALENDAR
