BEGIN:VCALENDAR
VERSION:2.0
PRODID:-//ChamberMaster//Event Calendar 2.0//EN
METHOD:PUBLISH
X-PUBLISHED-TTL:P3D
REFRESH-INTERVAL:P3D
CALSCALE:GREGORIAN
BEGIN:VEVENT
DTSTART:20250503T223000Z
DTEND:20250504T000000Z
X-MICROSOFT-CDO-ALLDAYEVENT:FALSE
SUMMARY:NSO Sinfonia 4: Postcards from Spain
DESCRIPTION:Embark on a musical journey to the vibrant landscapes of Spain with the Newfoundland Symphony Orchestra's Sinfonia 4: Postcards from Spain. Join us on Saturday\, May 3\, 2025\, at 8pm at the D.F. Cook Recital Hall\, MUN School of Music\, where conductor Dina Gilbert will lead you through an evening of evocative and captivating works. The concert begins with Pizzicato by contemporary composer Vivian Fung. This piece\, with its lively and intricate plucking\, sets a playful and energetic tone for the night. Next\, immerse yourself in the ethereal beauty of Postcards from the Sky by Marjan Mozetich. This composition captures the feeling of soaring above picturesque landscapes\, filling the hall with its serene and uplifting melodies. The program continues with Nino Rota's Concerto for String Orchestra\, a work known for its rich textures and dynamic contrasts\, showcasing the strings in a vibrant and expressive performance. The evening culminates with Rodion Shchedrin's Carmen Suite\, a brilliant reimagining of Bizet's opera. This suite\, with its bold rhythms and fiery passion\, vividly brings to life the spirit of Spain. Don't miss this opportunity to experience the rich musical tapestries of Spain. Secure your tickets now for a night of unforgettable performances with the Newfoundland Symphony Orchestra. Tickets are available at the ACC Box Office (729-3900)\, online at www.artsandculturecentre.com and at the door.
X-ALT-DESC;FMTTYPE=text/html:Embark on a musical journey to the vibrant landscapes of Spain with the Newfoundland Symphony Orchestra&rsquo\;s Sinfonia 4: Postcards from Spain. Join us on Saturday\, May 3\, 2025\, at 8pm at the D.F. Cook Recital Hall\, MUN School of Music\, where conductor Dina Gilbert will lead you through an evening of evocative and captivating works. The concert begins with Pizzicato by contemporary composer Vivian Fung. This piece\, with its lively and intricate plucking\, sets a playful and energetic tone for the night. Next\, immerse yourself in the ethereal beauty of Postcards from the Sky by Marjan Mozetich. This composition captures the feeling of soaring above picturesque landscapes\, filling the hall with its serene and uplifting melodies. The program continues with Nino Rota&rsquo\;s Concerto for String Orchestra\, a work known for its rich textures and dynamic contrasts\, showcasing the strings in a vibrant and expressive performance. The evening culminates with Rodion Shchedrin&rsquo\;s Carmen Suite\, a brilliant reimagining of Bizet&rsquo\;s opera. This suite\, with its bold rhythms and fiery passion\, vividly brings to life the spirit of Spain. Don&rsquo\;t miss this opportunity to experience the rich musical tapestries of Spain. Secure your tickets now for a night of unforgettable performances with the Newfoundland Symphony Orchestra. Tickets are available at the ACC Box Office (729-3900)\, online at www.artsandculturecentre.com and at the door.
LOCATION:D.F. Cook Recital Hall
UID:e.2558.4340
SEQUENCE:3
DTSTAMP:20260421T122153Z
URL:https://members.stjohnsbot.ca/events/details/nso-sinfonia-4-postcards-from-spain-4340
END:VEVENT

END:VCALENDAR
