BEGIN:VCALENDAR
VERSION:2.0
PRODID:-//ChamberMaster//Event Calendar 2.0//EN
METHOD:PUBLISH
X-PUBLISHED-TTL:P3D
REFRESH-INTERVAL:P3D
CALSCALE:GREGORIAN
BEGIN:VEVENT
DTSTART:20250510T213000Z
DTEND:20250510T233000Z
X-MICROSOFT-CDO-ALLDAYEVENT:FALSE
SUMMARY:NSO Au Revoir
DESCRIPTION:Join the Newfoundland Symphony Orchestra for a historic and heartfelt evening as we celebrate the remarkable career of our beloved principal conductor and music director\, Marc David\, with his farewell concert\, Au Revoir. On Saturday\, May 10\, 2025\, at 7pm at the Arts and Culture Centre\, we will honor Marc's over 30 years of dedication and leadership with a program that reflects his profound impact on our musical community. The evening opens with Mozart's sublime Mass in C major\, K.317 (Coronation Mass). This radiant work\, with its majestic choruses and exquisite solos\, sets a tone of celebration and reverence\, perfectly capturing the essence of Marc's illustrious tenure. The program culminates with Beethoven's monumental Symphony No. 3 in E-flat\, Op. 55 'Eroica'. This symphony\, known for its heroic themes and groundbreaking structure\, is a fitting tribute to Marc's visionary and transformative influence on the NSO. Its powerful and emotional journey mirrors the enduring legacy Marc leaves behind. Don't miss this once-in-a-lifetime concert as we bid a fond farewell to Marc David. Join us in celebrating his extraordinary career and the indelible mark he has made on the Newfoundland Symphony Orchestra. Secure your tickets now for an evening of unforgettable music and heartfelt tributes. Tickets are available at the ACC Box Office (729-3900)\, online at www.artsandculturecentre.com and at the door.
X-ALT-DESC;FMTTYPE=text/html:Join the Newfoundland Symphony Orchestra for a historic and heartfelt evening as we celebrate the remarkable career of our beloved principal conductor and music director\, Marc David\, with his farewell concert\, Au Revoir. On Saturday\, May 10\, 2025\, at 7pm at the Arts and Culture Centre\, we will honor Marc&rsquo\;s over 30 years of dedication and leadership with a program that reflects his profound impact on our musical community. The evening opens with Mozart&rsquo\;s sublime Mass in C major\, K.317 (Coronation Mass). This radiant work\, with its majestic choruses and exquisite solos\, sets a tone of celebration and reverence\, perfectly capturing the essence of Marc&rsquo\;s illustrious tenure. The program culminates with Beethoven&rsquo\;s monumental Symphony No. 3 in E-flat\, Op. 55 &lsquo\;Eroica&rsquo\;. This symphony\, known for its heroic themes and groundbreaking structure\, is a fitting tribute to Marc&rsquo\;s visionary and transformative influence on the NSO. Its powerful and emotional journey mirrors the enduring legacy Marc leaves behind. Don&rsquo\;t miss this once-in-a-lifetime concert as we bid a fond farewell to Marc David. Join us in celebrating his extraordinary career and the indelible mark he has made on the Newfoundland Symphony Orchestra. Secure your tickets now for an evening of unforgettable music and heartfelt tributes. Tickets are available at the ACC Box Office (729-3900)\, online at www.artsandculturecentre.com and at the door.
LOCATION:Arts and Culture Centre
UID:e.2558.4341
SEQUENCE:3
DTSTAMP:20260421T120951Z
URL:https://members.stjohnsbot.ca/events/details/nso-au-revoir-4341
END:VEVENT

END:VCALENDAR
