BEGIN:VCALENDAR
VERSION:2.0
PRODID:-//ChamberMaster//Event Calendar 2.0//EN
METHOD:PUBLISH
X-PUBLISHED-TTL:P3D
REFRESH-INTERVAL:P3D
CALSCALE:GREGORIAN
BEGIN:VEVENT
DTSTART:20250828T190000Z
DTEND:20250828T213000Z
X-MICROSOFT-CDO-ALLDAYEVENT:FALSE
SUMMARY:Happy Hour on the Hill - Labour Day Pop-Up
DESCRIPTION:Start the Labour Day Weekend on the Signal Hill - it's Happy Hour on the Hill Round #2 for 2025!\n\n\n\nSummer 2025 has been one for the record books\, so it's good to gather and share good vibes. Find your way to the the Rock Deck\, Johnson Geo Centre after a hike\, a swim\, or a day's work.\n\n\n\nThis pop-up event is perfect way to enjoy the natural beauty of Signal Hill with live music by Judith Morrissey and Sherri Breen\, a gorgeous Signal Hill Plum Sour made with fresh plums from CBS\, and choice of tapas for purchase.\n\n\n\nFamily friendly. Live music. Fun food for purchase! Bring friends. Bring a donation for the campus food bank! Leashed dogs welcome.
X-ALT-DESC;FMTTYPE=text/html:<div>Start the Labour Day Weekend on the Signal Hill - it&#39\;s Happy Hour on the Hill Round #2 for 2025!</div>\n\n<div><br />\nSummer 2025 has been one for the record books\, so it&#39\;s good to gather and share good vibes. Find your way to the the Rock Deck\, Johnson Geo Centre after a hike\, a swim\, or a day&#39\;s work.<br />\n<br />\nThis pop-up event is perfect way to enjoy the natural beauty of Signal Hill with live music by Judith Morrissey and Sherri Breen\, a gorgeous Signal Hill Plum Sour made with fresh plums from CBS\, and choice of tapas for purchase.</div>\n\n<div><br />\nFamily friendly. Live music. Fun food for purchase! Bring friends. Bring a donation for the campus food bank! Leashed dogs welcome.&nbsp\;</div>\n
LOCATION:125 Signal Hill Road
UID:e.2558.4479
SEQUENCE:3
DTSTAMP:20260423T054217Z
URL:https://members.stjohnsbot.ca/events/details/happy-hour-on-the-hill-labour-day-pop-up-4479
END:VEVENT

END:VCALENDAR
