BEGIN:VCALENDAR
VERSION:2.0
PRODID:-//ChamberMaster//Event Calendar 2.0//EN
METHOD:PUBLISH
X-PUBLISHED-TTL:P3D
REFRESH-INTERVAL:P3D
CALSCALE:GREGORIAN
BEGIN:VEVENT
DTSTART;VALUE=DATE:20250813
DTEND;VALUE=DATE:20250814
TRANSP:TRANSPARENT
X-MICROSOFT-CDO-ALLDAYEVENT:TRUE
SUMMARY:Easter Seals Newfoundland and Labrador Disability Golf Classic
DESCRIPTION:About the Disability Golf Classic: \n\nAs a part of our fundraising efforts for Phase 3 of our inclusive and accessible park located at 206 Mount Scio Road\, Easter Seals NL presents the annual Disability Golf Classic.\n\nThe golf classic is a cornerstone event that attracts golfers from both the non-profit and business community. In addition to providing an excellent afternoon of leisure or team-building\, this event is a great opportunity to network with local industry leaders.\n\nRegister as a team   $1\,200\n\nIncludes:\n\n\n	\n	18 holes of golf for 4 golfers \n	\n\n\n\n	\n	2 power carts\n	\n	\n	4 light meals at brunch from 11:30-1:00 p.m.\n	\n	\n	Lunch on the green\n	\n	\n	A gift for each golfer\n	\n	\n	A free round of weekday golf\, sponsored by The Wilds Resort\n	\n	\n	Opportunity to win great prizes\n	\n	\n	Charitable tax receipt\n	\n\n\nRegister as an individual   $300\n\nIncludes:\n\n\n	\n	18 holes of golf for 1 golfer\n	\n	\n	1 power cart\n	\n	\n	1 light meal at brunch from 11:30-1:00 p.m.\n	\n	\n	Lunch on the green\n	\n	\n	A gift\n	\n	\n	A free round of weekday golf\, sponsored by The Wilds Resort\n	\n	\n	Opportunity to win great prizes\n	\n	\n	Charitable tax receipt\n	\n\n\nHow can I make a bigger impact?\n\nOur detailed Sponsorship Package can be found Here.\n\nBy becoming a Sponsor of the Disability Golf Classic\, you will:\n\n\n	\n	Become a community champion supporting over 20 programs and educational services provided by Easter Seals NL for people with disabilities throughout the province\, which contribute to the continued growth and success of the organization\;\n	\n	\n	Have the opportunity to network with businesses across the Avalon\;\n	\n	\n	Create a positive public image through association and awareness of your business's commitment to Easter Seals NL\;\n	\n	\n	Have the opportunity to connect with and advertise to new clientele.\n	\n\n\nIf you have any questions about this form\, please contact our Fund Development and Communications Coordinator\, Matthew Comerford at Matthewc@eastersealsnl.ca.
X-ALT-DESC;FMTTYPE=text/html:<p><span style="font-size:14px"><span style="font-family:arial\,helvetica\,sans-serif">About the Disability Golf Classic:&nbsp\;<br />\nAs a part of our fundraising efforts for Phase 3 of our inclusive and accessible park located at 206 Mount Scio Road\, Easter Seals NL presents the annual Disability Golf Classic.<br />\nThe golf classic is a cornerstone event that attracts golfers from both the non-profit and business community. In addition to providing an excellent afternoon of leisure or team-building\, this event is a great opportunity to network with local industry leaders.<br />\nRegister as a team &ndash\;&nbsp\;$1\,200<br />\nIncludes:</span></span></p>\n\n<ul>\n	<li>\n	<p><span style="font-size:14px"><span style="font-family:arial\,helvetica\,sans-serif">18 holes of golf for 4 golfers&nbsp\;</span></span></p>\n	</li>\n</ul>\n\n<ul>\n	<li>\n	<p><span style="font-size:14px"><span style="font-family:arial\,helvetica\,sans-serif">2 power carts</span></span></p>\n	</li>\n	<li>\n	<p><span style="font-size:14px"><span style="font-family:arial\,helvetica\,sans-serif">4 light meals at brunch from 11:30-1:00 p.m.</span></span></p>\n	</li>\n	<li>\n	<p><span style="font-size:14px"><span style="font-family:arial\,helvetica\,sans-serif">Lunch on the green</span></span></p>\n	</li>\n	<li>\n	<p><span style="font-size:14px"><span style="font-family:arial\,helvetica\,sans-serif">A gift for each golfer</span></span></p>\n	</li>\n	<li>\n	<p><span style="font-size:14px"><span style="font-family:arial\,helvetica\,sans-serif">A free round of weekday golf\, sponsored by The Wilds Resort</span></span></p>\n	</li>\n	<li>\n	<p><span style="font-size:14px"><span style="font-family:arial\,helvetica\,sans-serif">Opportunity to win great prizes</span></span></p>\n	</li>\n	<li>\n	<p><span style="font-size:14px"><span style="font-family:arial\,helvetica\,sans-serif">Charitable tax receipt</span></span></p>\n	</li>\n</ul>\n\n<p><span style="font-size:14px"><span style="font-family:arial\,helvetica\,sans-serif">Register as an individual&nbsp\;&ndash\; $300<br />\nIncludes:</span></span></p>\n\n<ul>\n	<li>\n	<p><span style="font-size:14px"><span style="font-family:arial\,helvetica\,sans-serif">18 holes of golf for 1 golfer</span></span></p>\n	</li>\n	<li>\n	<p><span style="font-size:14px"><span style="font-family:arial\,helvetica\,sans-serif">1 power cart</span></span></p>\n	</li>\n	<li>\n	<p><span style="font-size:14px"><span style="font-family:arial\,helvetica\,sans-serif">1 light meal at brunch from 11:30-1:00 p.m.</span></span></p>\n	</li>\n	<li>\n	<p><span style="font-size:14px"><span style="font-family:arial\,helvetica\,sans-serif">Lunch on the green</span></span></p>\n	</li>\n	<li>\n	<p><span style="font-size:14px"><span style="font-family:arial\,helvetica\,sans-serif">A gift</span></span></p>\n	</li>\n	<li>\n	<p><span style="font-size:14px"><span style="font-family:arial\,helvetica\,sans-serif">A free round of weekday golf\, sponsored by The Wilds Resort</span></span></p>\n	</li>\n	<li>\n	<p><span style="font-size:14px"><span style="font-family:arial\,helvetica\,sans-serif">Opportunity to win great prizes</span></span></p>\n	</li>\n	<li>\n	<p><span style="font-size:14px"><span style="font-family:arial\,helvetica\,sans-serif">Charitable tax receipt</span></span></p>\n	</li>\n</ul>\n\n<p><span style="font-size:14px"><span style="font-family:arial\,helvetica\,sans-serif">How can I make a bigger impact?<br />\nOur detailed&nbsp\;<a href="https://drive.google.com/file/d/1LDZNphskrMYfnkyAIHagNp2gyjXwDIhy/view?usp=drive_link" rel="noopener" style="box-sizing: inherit\; -webkit-font-smoothing: subpixel-antialiased\; background-color: transparent\; line-height: inherit\; color: rgb(91\, 192\, 222)\; cursor: pointer\; outline: none\; transition: 0.3s\; text-decoration-line: none\;" target="_blank">Sponsorship Package</a>&nbsp\;can be found&nbsp\;<a href="https://drive.google.com/file/d/1LDZNphskrMYfnkyAIHagNp2gyjXwDIhy/view?usp=drive_link" rel="noopener" style="box-sizing: inherit\; -webkit-font-smoothing: subpixel-antialiased\; background-color: transparent\; line-height: inherit\; color: rgb(91\, 192\, 222)\; cursor: pointer\; outline: none\; transition: 0.3s\; text-decoration-line: none\;" target="_blank">Here</a>.<br />\nBy becoming a&nbsp\;<a href="https://drive.google.com/file/d/1LDZNphskrMYfnkyAIHagNp2gyjXwDIhy/view?usp=drive_link" rel="noopener" style="box-sizing: inherit\; -webkit-font-smoothing: subpixel-antialiased\; background-color: transparent\; line-height: inherit\; color: rgb(91\, 192\, 222)\; cursor: pointer\; outline: none\; transition: 0.3s\; text-decoration-line: none\;" target="_blank">Sponsor</a>&nbsp\;of the Disability Golf Classic\, you will:</span></span></p>\n\n<ul>\n	<li>\n	<p><span style="font-size:14px"><span style="font-family:arial\,helvetica\,sans-serif">Become a community champion supporting over 20 programs and educational services provided by Easter Seals NL for people with disabilities throughout the province\, which contribute to the continued growth and success of the organization\;</span></span></p>\n	</li>\n	<li>\n	<p><span style="font-size:14px"><span style="font-family:arial\,helvetica\,sans-serif">Have the opportunity to network with businesses across the Avalon\;</span></span></p>\n	</li>\n	<li>\n	<p><span style="font-size:14px"><span style="font-family:arial\,helvetica\,sans-serif">Create a positive public image through association and awareness of your business&rsquo\;s commitment to Easter Seals NL\;</span></span></p>\n	</li>\n	<li>\n	<p>Have the opportunity to connect with and advertise to new clientele.</p>\n	</li>\n</ul>\n\n<p><span style="font-size:14px"><span style="font-family:arial\,helvetica\,sans-serif">If you have any questions about this form\, please contact our Fund Development and Communications Coordinator\, Matthew Comerford at&nbsp\;<a href="http://matthewc@eastersealsnl.ca/" rel="noopener" style="box-sizing: inherit\; -webkit-font-smoothing: subpixel-antialiased\; background-color: transparent\; line-height: inherit\; color: rgb(91\, 192\, 222)\; cursor: pointer\; outline: none\; transition: 0.3s\; text-decoration-line: none\;" target="_blank">Matthewc@eastersealsnl.ca</a>.</span></span></p>\n
LOCATION:Location: The Wilds Resort on Salmonier Line
UID:e.2558.4441
SEQUENCE:3
DTSTAMP:20260423T053157Z
URL:https://members.stjohnsbot.ca/events/details/easter-seals-newfoundland-and-labrador-disability-golf-classic-4441
END:VEVENT

END:VCALENDAR
